BEGIN:VCALENDAR
VERSION:2.0
PRODID:https://www.kufer.de/kuferweb / DE
METHOD:PUBLISH
CALSCALE:GREGORIAN
X-WR-TIMEZONE:Europe/Berlin
BEGIN:VTIMEZONE
TZID:Europe/Berlin
X-LIC-LOCATION:Europe/Berlin
BEGIN:DAYLIGHT
TZOFFSETFROM:+0100
TZOFFSETTO:+0200
TZNAME:CEST
DTSTART:19700329T020000
RRULE:FREQ=YEARLY;INTERVAL=1;BYDAY=-1SU;BYMONTH=3
END:DAYLIGHT
BEGIN:STANDARD
TZOFFSETFROM:+0200
TZOFFSETTO:+0100
TZNAME:CET
DTSTART:19701025T030000
RRULE:FREQ=YEARLY;INTERVAL=1;BYDAY=-1SU;BYMONTH=10
END:STANDARD
END:VTIMEZONE
BEGIN:VEVENT
DTSTAMP:20260425T032912
DTSTART;TZID=Europe/Berlin:20261211T190000
DTEND;TZID=Europe/Berlin:20261211T235900
UID:TH154-20261211T190000@ABTEI KÖNIGMÜNSTER
SUMMARY:SP "Schweige und höre" (TH154) 
LOCATION:Haus der Stille, Halle, Klosterberg 8, 59872 Meschede
END:VEVENT
BEGIN:VEVENT
DTSTAMP:20260425T032912
DTSTART;TZID=Europe/Berlin:20261212T000000
DTEND;TZID=Europe/Berlin:20261212T235900
UID:TH154-20261212T000000@ABTEI KÖNIGMÜNSTER
SUMMARY:SP "Schweige und höre" (TH154) 
LOCATION:Haus der Stille, Halle, Klosterberg 8, 59872 Meschede
END:VEVENT
BEGIN:VEVENT
DTSTAMP:20260425T032912
DTSTART;TZID=Europe/Berlin:20261213T000000
DTEND;TZID=Europe/Berlin:20261213T130000
UID:TH154-20261213T000000@ABTEI KÖNIGMÜNSTER
SUMMARY:SP "Schweige und höre" (TH154) 
LOCATION:Haus der Stille, Halle, Klosterberg 8, 59872 Meschede
END:VEVENT
END:VCALENDAR