BEGIN:VCALENDAR
VERSION:2.0
PRODID:https://www.kufer.de/kuferweb / DE
METHOD:PUBLISH
CALSCALE:GREGORIAN
X-WR-TIMEZONE:Europe/Berlin
BEGIN:VTIMEZONE
TZID:Europe/Berlin
X-LIC-LOCATION:Europe/Berlin
BEGIN:DAYLIGHT
TZOFFSETFROM:+0100
TZOFFSETTO:+0200
TZNAME:CEST
DTSTART:19700329T020000
RRULE:FREQ=YEARLY;INTERVAL=1;BYDAY=-1SU;BYMONTH=3
END:DAYLIGHT
BEGIN:STANDARD
TZOFFSETFROM:+0200
TZOFFSETTO:+0100
TZNAME:CET
DTSTART:19701025T030000
RRULE:FREQ=YEARLY;INTERVAL=1;BYDAY=-1SU;BYMONTH=10
END:STANDARD
END:VTIMEZONE
BEGIN:VEVENT
DTSTAMP:20260425T004154
DTSTART;TZID=Europe/Berlin:20260522T180000
DTEND;TZID=Europe/Berlin:20260522T235900
UID:SH974-20260522T180000@ABTEI KÖNIGMÜNSTER
SUMMARY:SP "Den Einklang mit meinem Atem suchen - Yoga als Zugang zur Lebenskraft" (SH974) 
LOCATION:Haus der Stille, Halle, Klosterberg 8, 59872 Meschede
END:VEVENT
BEGIN:VEVENT
DTSTAMP:20260425T004154
DTSTART;TZID=Europe/Berlin:20260523T000000
DTEND;TZID=Europe/Berlin:20260523T235900
UID:SH974-20260523T000000@ABTEI KÖNIGMÜNSTER
SUMMARY:SP "Den Einklang mit meinem Atem suchen - Yoga als Zugang zur Lebenskraft" (SH974) 
LOCATION:Haus der Stille, Halle, Klosterberg 8, 59872 Meschede
END:VEVENT
BEGIN:VEVENT
DTSTAMP:20260425T004154
DTSTART;TZID=Europe/Berlin:20260524T000000
DTEND;TZID=Europe/Berlin:20260524T235900
UID:SH974-20260524T000000@ABTEI KÖNIGMÜNSTER
SUMMARY:SP "Den Einklang mit meinem Atem suchen - Yoga als Zugang zur Lebenskraft" (SH974) 
LOCATION:Haus der Stille, Halle, Klosterberg 8, 59872 Meschede
END:VEVENT
BEGIN:VEVENT
DTSTAMP:20260425T004154
DTSTART;TZID=Europe/Berlin:20260525T000000
DTEND;TZID=Europe/Berlin:20260525T235900
UID:SH974-20260525T000000@ABTEI KÖNIGMÜNSTER
SUMMARY:SP "Den Einklang mit meinem Atem suchen - Yoga als Zugang zur Lebenskraft" (SH974) 
LOCATION:Haus der Stille, Halle, Klosterberg 8, 59872 Meschede
END:VEVENT
BEGIN:VEVENT
DTSTAMP:20260425T004154
DTSTART;TZID=Europe/Berlin:20260526T000000
DTEND;TZID=Europe/Berlin:20260526T130000
UID:SH974-20260526T000000@ABTEI KÖNIGMÜNSTER
SUMMARY:SP "Den Einklang mit meinem Atem suchen - Yoga als Zugang zur Lebenskraft" (SH974) 
LOCATION:Haus der Stille, Halle, Klosterberg 8, 59872 Meschede
END:VEVENT
END:VCALENDAR